BEGIN:VCALENDAR
VERSION:2.0
PRODID:-//wp-events-plugin.com//7.2.3.1//EN
TZID:Europe/Berlin
X-WR-TIMEZONE:Europe/Berlin
BEGIN:VEVENT
UID:115@sietareu.org
DTSTART;TZID=Europe/Berlin:20230123T180000
DTEND;TZID=Europe/Berlin:20230123T190000
DTSTAMP:20231027T040846Z
URL:https://sietareu.org/events/zones-of-interculturallity-a-framework-cap
 turing-intercultural-interactions/
SUMMARY:Zones of Interculturality: A framework capturing intercultural inte
 ractions
DESCRIPTION:Leah Davcheva is the Founder and Director of AHA moments Centre
  for Interculturality\,  AHA moments  collaborates with people\, teams a
 nd organisations across the worlds of education\, and youth to create exte
 nsive learning and action experience\, at home and across borders. The Cen
 tre practices are underpinned by sound theoretical foundations\,making use
  of positive difference through Solutions...\n\nhttps://sietareu.org/event
 s/zones-of-interculturallity-a-framework-capturing-intercultural-interacti
 ons/
CATEGORIES:Webinar
END:VEVENT
BEGIN:VTIMEZONE
TZID:Europe/Berlin
X-LIC-LOCATION:Europe/Berlin
BEGIN:STANDARD
DTSTART:20221030T020000
TZOFFSETFROM:+0200
TZOFFSETTO:+0100
TZNAME:CET
END:STANDARD
END:VTIMEZONE
END:VCALENDAR