BEGIN:VCALENDAR
VERSION:2.0
PRODID:-//wp-events-plugin.com//7.2.3.1//EN
TZID:Europe/Berlin
X-WR-TIMEZONE:Europe/Berlin
BEGIN:VEVENT
UID:226@sietareu.org
DTSTART;TZID=Europe/Berlin:20250409T150000
DTEND;TZID=Europe/Berlin:20250409T160000
DTSTAMP:20250412T174523Z
URL:https://sietareu.org/events/when-danish-hygge-meets-indian-jugaad/
SUMMARY:When Danish Hygge Meets Indian Jugaad
DESCRIPTION:We are delighted to invite you to an engaging and insightful we
 binar titled: When Danish Hygge Meets Indian Jugaad Speaker: Jinu J.\, Int
 ercultural Trainer Date &amp\; Time: 9th of April 2025\,  15.00 CET Locat
 ion: Online (Zoom link will be shared upon registration) In this session\,
  Jinu J. will explore two unique cultural concepts—Hygge\, the Danish...
 \n\nhttps://sietareu.org/events/when-danish-hygge-meets-indian-jugaad/
ATTACH;FMTTYPE=image/jpeg:https://sietareu.org/wp-content/uploads/iconWebi
 nar300.png
CATEGORIES:Webinar
END:VEVENT
BEGIN:VTIMEZONE
TZID:Europe/Berlin
X-LIC-LOCATION:Europe/Berlin
BEGIN:DAYLIGHT
DTSTART:20250330T030000
TZOFFSETFROM:+0100
TZOFFSETTO:+0200
TZNAME:CEST
END:DAYLIGHT
END:VTIMEZONE
END:VCALENDAR