BEGIN:VCALENDAR
VERSION:2.0
PRODID:-//wp-events-plugin.com//7.2.3.1//EN
TZID:Europe/Berlin
X-WR-TIMEZONE:Europe/Berlin
BEGIN:VEVENT
UID:76@sietareu.org
DTSTART;TZID=Europe/Berlin:20220325T110000
DTEND;TZID=Europe/Berlin:20220325T114500
DTSTAMP:20220313T120734Z
URL:https://sietareu.org/events/what-is-the-role-of-the-interculturalists-
 in-the-red-line-between-fighting-for-diversity-and-preserving-national-cul
 tures/
SUMMARY:What is the role of the interculturalists in the red line between f
 ighting for diversity and preserving national cultures?
DESCRIPTION:Burning question: What is the role of the interculturalists in 
 the red line between fighting for diversity and preserving national cultur
 es? Thanks for the contribution to Anastasia Shevchenko from SIETAR Europa
  who will start the CCCBreak with a brief 3-5 mins introduction into the t
 opic. Camilla Degerth from the SIETAR Europa Member’s Benefits team will
 ...\n\nhttps://sietareu.org/events/what-is-the-role-of-the-interculturalis
 ts-in-the-red-line-between-fighting-for-diversity-and-preserving-national-
 cultures/
ATTACH;FMTTYPE=image/jpeg:https://sietareu.org/wp-content/uploads/Sietar_I
 cons_Tasse.png
CATEGORIES:CCC Break
END:VEVENT
BEGIN:VTIMEZONE
TZID:Europe/Berlin
X-LIC-LOCATION:Europe/Berlin
BEGIN:STANDARD
DTSTART:20211031T020000
TZOFFSETFROM:+0200
TZOFFSETTO:+0100
TZNAME:CET
END:STANDARD
END:VTIMEZONE
END:VCALENDAR