BEGIN:VCALENDAR
VERSION:2.0
PRODID:-//wp-events-plugin.com//7.2.3.1//EN
TZID:Europe/Berlin
X-WR-TIMEZONE:Europe/Berlin
BEGIN:VEVENT
UID:78@sietareu.org
DTSTART;TZID=Europe/Berlin:20220624T110000
DTEND;TZID=Europe/Berlin:20220624T114500
DTSTAMP:20220313T120528Z
URL:https://sietareu.org/events/what-has-the-pandemic-taught-us-about-how-
 new-cultures-emerge-and-how-cultures-must-adapt-in-order-to-remain-relevan
 t/
SUMMARY:What has the pandemic taught us about how new cultures emerge\, and
  how cultures must adapt in order to remain relevant?
DESCRIPTION:Burning question: What has the pandemic taught us about how new
  cultures emerge\, and how cultures must adapt in order to remain relevant
 ? Thanks for the contribution to Tamara Makoni from SIETAR Europa who wil
 l start the CCCBreak with a brief 3-5 mins introduction into the topic. Jo
 anna Sell from the SIETAR Europa Member’s Benefits team...\n\nhttps://si
 etareu.org/events/what-has-the-pandemic-taught-us-about-how-new-cultures-e
 merge-and-how-cultures-must-adapt-in-order-to-remain-relevant/
ATTACH;FMTTYPE=image/jpeg:https://sietareu.org/wp-content/uploads/Sietar_I
 cons_Tasse.png
CATEGORIES:CCC Break
END:VEVENT
BEGIN:VTIMEZONE
TZID:Europe/Berlin
X-LIC-LOCATION:Europe/Berlin
BEGIN:DAYLIGHT
DTSTART:20220327T030000
TZOFFSETFROM:+0100
TZOFFSETTO:+0200
TZNAME:CEST
END:DAYLIGHT
END:VTIMEZONE
END:VCALENDAR