BEGIN:VCALENDAR
VERSION:2.0
PRODID:-//wp-events-plugin.com//7.2.3.1//EN
TZID:Europe/Berlin
X-WR-TIMEZONE:Europe/Berlin
BEGIN:VEVENT
UID:81@sietareu.org
DTSTART;TZID=Europe/Berlin:20220318T110000
DTEND;TZID=Europe/Berlin:20220318T114500
DTSTAMP:20220316T092634Z
URL:https://sietareu.org/events/what-does-digital-inclusion-really-mean/
SUMMARY:What does digital inclusion really mean?
DESCRIPTION:Burning question: What does digital inclusion really mean? Mode
 rator: Barbara Covarrubias Venegas You are asking yourself what CCCBreak s
 tands for? Well\, it is a Cross-Cultural Coffee Break: every participant g
 rabs a cup of coffee (cappuccino\, latte macchiato\, espresso\, you name i
 t) and dives into a vivid exchange on an intercultural topic. The Objectiv
 es of CCCBreaks:...\n\nhttps://sietareu.org/events/what-does-digital-inclu
 sion-really-mean/
ATTACH;FMTTYPE=image/jpeg:https://sietareu.org/wp-content/uploads/Sietar_I
 cons_Tasse.png
CATEGORIES:CCC Break
END:VEVENT
BEGIN:VTIMEZONE
TZID:Europe/Berlin
X-LIC-LOCATION:Europe/Berlin
BEGIN:STANDARD
DTSTART:20211031T020000
TZOFFSETFROM:+0200
TZOFFSETTO:+0100
TZNAME:CET
END:STANDARD
END:VTIMEZONE
END:VCALENDAR