BEGIN:VCALENDAR
VERSION:2.0
PRODID:-//wp-events-plugin.com//7.2.3.1//EN
TZID:Europe/Berlin
X-WR-TIMEZONE:Europe/Berlin
BEGIN:VEVENT
UID:159@sietareu.org
DTSTART;TZID=Europe/Berlin:20231020T110000
DTEND;TZID=Europe/Berlin:20231020T114500
DTSTAMP:20231019T171757Z
URL:https://sietareu.org/events/what-are-your-thoughts-about-mental-health
 /
SUMMARY:What are your thoughts about Mental Health?
DESCRIPTION:Register here: https://us02web.zoom.us/meeting/register/tZAqfum
 przkuGtG3F3pOg8JnT0LkHjCjYtKE Register here: https://us02web.zoom.us/meeti
 ng/register/tZAqfumprzkuGtG3F3pOg8JnT0LkHjCjYtKE\n\nhttps://sietareu.org/e
 vents/what-are-your-thoughts-about-mental-health/
ATTACH;FMTTYPE=image/jpeg:https://sietareu.org/wp-content/uploads/Sietar_I
 cons_Tasse.png
CATEGORIES:CCC Break
END:VEVENT
BEGIN:VTIMEZONE
TZID:Europe/Berlin
X-LIC-LOCATION:Europe/Berlin
BEGIN:DAYLIGHT
DTSTART:20230326T030000
TZOFFSETFROM:+0100
TZOFFSETTO:+0200
TZNAME:CEST
END:DAYLIGHT
END:VTIMEZONE
END:VCALENDAR