BEGIN:VCALENDAR
VERSION:2.0
PRODID:-//wp-events-plugin.com//7.2.3.1//EN
TZID:Europe/Berlin
X-WR-TIMEZONE:Europe/Berlin
BEGIN:VEVENT
UID:46@sietareu.org
DTSTART;TZID=Europe/Berlin:20220217T180000
DTEND;TZID=Europe/Berlin:20220217T190000
DTSTAMP:20220316T091059Z
URL:https://sietareu.org/events/want-to-get-more-members-improve-your-memb
 ership-renewal-rate-promote-your-events-more-widely-all-with-less-effort/
SUMMARY:Want to get more members? Improve your membership renewal rate? Pro
 mote your events more widely? All with less effort?!
DESCRIPTION:Recently\, SIETAR España\, SIETAR France and SIETAR Europa hav
 e introduced new tools that help automate the membership and events proces
 ses. It’s very easy for new members to join\, reminders encourage member
 s to renew their membership\, and events can be more easily shared across 
 social media platforms and with other SIETAR organizations. Every National
  SIETAR can...\n\nhttps://sietareu.org/events/want-to-get-more-members-imp
 rove-your-membership-renewal-rate-promote-your-events-more-widely-all-with
 -less-effort/
ATTACH;FMTTYPE=image/jpeg:https://sietareu.org/wp-content/uploads/iconCBM3
 00.png
CATEGORIES:Capacity Building Meetup
END:VEVENT
BEGIN:VTIMEZONE
TZID:Europe/Berlin
X-LIC-LOCATION:Europe/Berlin
BEGIN:STANDARD
DTSTART:20211031T020000
TZOFFSETFROM:+0200
TZOFFSETTO:+0100
TZNAME:CET
END:STANDARD
END:VTIMEZONE
END:VCALENDAR