BEGIN:VCALENDAR
VERSION:2.0
PRODID:-//wp-events-plugin.com//7.2.3.1//EN
TZID:Europe/Berlin
X-WR-TIMEZONE:Europe/Berlin
BEGIN:VEVENT
UID:235@sietareu.org
DTSTART;TZID=Europe/Berlin;VALUE=DATE:20250922
DTEND;TZID=Europe/Berlin;VALUE=DATE:20250928
DTSTAMP:20251030T105825Z
URL:https://sietareu.org/events/virtual-institute-2025/
SUMMARY:Virtual Institute 2025
DESCRIPTION:Navigating interculturalism in an era of disruption: Where are 
 we coming from? Where are we? Where do we want to go? Interculturalism\, t
 he nature and scope of our work\, is shifting as the world becomes more co
 mplex. The current global climate\, from seismic geopolitical events from 
 the global racial reckoning to the invasion of Ukraine...\n\nhttps://sieta
 reu.org/events/virtual-institute-2025/
CATEGORIES:Virtual Institute
END:VEVENT
BEGIN:VTIMEZONE
TZID:Europe/Berlin
X-LIC-LOCATION:Europe/Berlin
BEGIN:DAYLIGHT
DTSTART:20250330T030000
TZOFFSETFROM:+0100
TZOFFSETTO:+0200
TZNAME:CEST
END:DAYLIGHT
END:VTIMEZONE
END:VCALENDAR