BEGIN:VCALENDAR
VERSION:2.0
PRODID:-//wp-events-plugin.com//7.2.3.1//EN
TZID:Europe/Berlin
X-WR-TIMEZONE:Europe/Berlin
BEGIN:VEVENT
UID:134@sietareu.org
DTSTART;TZID=Europe/Berlin;VALUE=DATE:20230623
DTEND;TZID=Europe/Berlin;VALUE=DATE:20230709
DTSTAMP:20230707T194951Z
URL:https://sietareu.org/events/virtual-institute-2023/
SUMMARY:Virtual Institute 2023
DESCRIPTION:Shifting Perspectives from WEIRD towards Greater Global Inclusi
 on At the 2022 SIETAR Europa Congress\, we were invited to Re-think Interc
 ulturalism\, to challenge what we have known and learned from a Western Ed
 ucated Industrial Rich and Democratic (WEIRD) perspective. This year’s V
 irtual Institute invites us to move deeper into those conversations to dis
 cuss how intercultural educators\,...\n\nhttps://sietareu.org/events/virtu
 al-institute-2023/
CATEGORIES:Virtual Institute
END:VEVENT
BEGIN:VTIMEZONE
TZID:Europe/Berlin
X-LIC-LOCATION:Europe/Berlin
BEGIN:DAYLIGHT
DTSTART:20230326T030000
TZOFFSETFROM:+0100
TZOFFSETTO:+0200
TZNAME:CEST
END:DAYLIGHT
END:VTIMEZONE
END:VCALENDAR