BEGIN:VCALENDAR
VERSION:2.0
PRODID:-//wp-events-plugin.com//7.2.3.1//EN
TZID:Europe/Berlin
X-WR-TIMEZONE:Europe/Berlin
BEGIN:VEVENT
UID:110@sietareu.org
DTSTART;TZID=Europe/Berlin:20221124T170000
DTEND;TZID=Europe/Berlin:20221124T180000
DTSTAMP:20221108T073549Z
URL:https://sietareu.org/events/viewpoints-5/
SUMMARY:ViewPoints 5
DESCRIPTION:More info coming soon.\n\nhttps://sietareu.org/events/viewpoint
 s-5/
CATEGORIES:ViewPoints
END:VEVENT
BEGIN:VTIMEZONE
TZID:Europe/Berlin
X-LIC-LOCATION:Europe/Berlin
BEGIN:STANDARD
DTSTART:20221030T020000
TZOFFSETFROM:+0200
TZOFFSETTO:+0100
TZNAME:CET
END:STANDARD
END:VTIMEZONE
END:VCALENDAR