BEGIN:VCALENDAR
VERSION:2.0
PRODID:-//wp-events-plugin.com//7.2.3.1//EN
TZID:Europe/Berlin
X-WR-TIMEZONE:Europe/Berlin
BEGIN:VEVENT
UID:111@sietareu.org
DTSTART;TZID=Europe/Berlin:20221018T180000
DTEND;TZID=Europe/Berlin:20221018T190000
DTSTAMP:20221108T073517Z
URL:https://sietareu.org/events/viewpoints-4-using-all-five-senses/
SUMMARY:ViewPoints 4: Using all Five Senses
DESCRIPTION:We are discussing how we can engage or evoke all five senses - 
 and maybe the sixth - in our work. It is still time to sign up.\n\nhttps:/
 /sietareu.org/events/viewpoints-4-using-all-five-senses/
CATEGORIES:ViewPoints
END:VEVENT
BEGIN:VTIMEZONE
TZID:Europe/Berlin
X-LIC-LOCATION:Europe/Berlin
BEGIN:DAYLIGHT
DTSTART:20220327T030000
TZOFFSETFROM:+0100
TZOFFSETTO:+0200
TZNAME:CEST
END:DAYLIGHT
END:VTIMEZONE
END:VCALENDAR