BEGIN:VCALENDAR
VERSION:2.0
PRODID:-//wp-events-plugin.com//7.2.3.1//EN
TZID:Europe/Berlin
X-WR-TIMEZONE:Europe/Berlin
BEGIN:VEVENT
UID:108@sietareu.org
DTSTART;TZID=Europe/Berlin:20220920T190000
DTEND;TZID=Europe/Berlin:20220920T200000
DTSTAMP:20220913T170524Z
URL:https://sietareu.org/events/viewpoints-3-empathy/
SUMMARY:ViewPoints 3: Empathy
DESCRIPTION:In this episode of ViewPoints we will focus on the theme of “
 Empathy”: emotional and cognitive empathy as well as compassion. How imp
 ortant is empathy in your work? How do you empathise with your students\, 
 learners\, clients or colleagues. How do you help the people you work with
  build their own empathy\, also across cultures?...\n\nhttps://sietareu.or
 g/events/viewpoints-3-empathy/
CATEGORIES:ViewPoints
END:VEVENT
BEGIN:VTIMEZONE
TZID:Europe/Berlin
X-LIC-LOCATION:Europe/Berlin
BEGIN:DAYLIGHT
DTSTART:20220327T030000
TZOFFSETFROM:+0100
TZOFFSETTO:+0200
TZNAME:CEST
END:DAYLIGHT
END:VTIMEZONE
END:VCALENDAR