BEGIN:VCALENDAR
VERSION:2.0
PRODID:-//wp-events-plugin.com//7.2.3.1//EN
TZID:Europe/Berlin
X-WR-TIMEZONE:Europe/Berlin
BEGIN:VEVENT
UID:114@sietareu.org
DTSTART;TZID=Europe/Berlin:20221214T100000
DTEND;TZID=Europe/Berlin:20221214T113000
DTSTAMP:20221206T181320Z
URL:https://sietareu.org/events/using-mural-in-an-inspiring-way/
SUMMARY:Using MURAL in an Inspiring Way
DESCRIPTION:Phek Yen\, our creative colleague from China is sharing with us
  tips and tricks how to use MURAL in an inspiring way. Please note that ou
 r intercultural playground is taking place in the morning due to the time 
 difference with China\, where Phek Yen is based. Gradiola and I are very m
 uch looking forward to...\n\nhttps://sietareu.org/events/using-mural-in-an
 -inspiring-way/
ATTACH;FMTTYPE=image/jpeg:https://sietareu.org/wp-content/uploads/iconPlay
 ground300.png
CATEGORIES:Intercultural Playground
END:VEVENT
BEGIN:VTIMEZONE
TZID:Europe/Berlin
X-LIC-LOCATION:Europe/Berlin
BEGIN:STANDARD
DTSTART:20221030T020000
TZOFFSETFROM:+0200
TZOFFSETTO:+0100
TZNAME:CET
END:STANDARD
END:VTIMEZONE
END:VCALENDAR