BEGIN:VCALENDAR
VERSION:2.0
PRODID:-//wp-events-plugin.com//7.2.3.1//EN
TZID:Europe/Berlin
X-WR-TIMEZONE:Europe/Berlin
BEGIN:VEVENT
UID:109@sietareu.org
DTSTART;TZID=Europe/Berlin:20221110T180000
DTEND;TZID=Europe/Berlin:20221110T190000
DTSTAMP:20221115T172449Z
URL:https://sietareu.org/events/the-power-of-the-iranian-womens-protest-mo
 vement-interview-with-dr-haleh-esfandiari/
SUMMARY:The power of the Iranian Women's Protest Movement - Interview with 
 Dr. Haleh Esfandiari
DESCRIPTION:Will Iranian women make history by instigating a revolution? Af
 ter 43 years of a fundamentalist regime that has suppressed women's rights
  and deprived them of the freedom of choice\, women have had enough. The d
 eath of Mahsa Amini by the 'Morality Police' on the 16th of September inst
 igated mass protests all over the country. The...\n\nhttps://sietareu.org/
 events/the-power-of-the-iranian-womens-protest-movement-interview-with-dr-
 haleh-esfandiari/
CATEGORIES:Special Event,Webinar
END:VEVENT
BEGIN:VTIMEZONE
TZID:Europe/Berlin
X-LIC-LOCATION:Europe/Berlin
BEGIN:STANDARD
DTSTART:20221030T020000
TZOFFSETFROM:+0200
TZOFFSETTO:+0100
TZNAME:CET
END:STANDARD
END:VTIMEZONE
END:VCALENDAR