BEGIN:VCALENDAR
VERSION:2.0
PRODID:-//wp-events-plugin.com//7.2.3.1//EN
TZID:Europe/Berlin
X-WR-TIMEZONE:Europe/Berlin
BEGIN:VEVENT
UID:66@sietareu.org
DTSTART;TZID=Europe/Berlin:20220323T180000
DTEND;TZID=Europe/Berlin:20220323T190000
DTSTAMP:20220317T043135Z
URL:https://sietareu.org/events/the-power-of-storytelling-across-cultures/
SUMMARY:The power of storytelling across cultures
DESCRIPTION:“Words create worlds” and every single story can be a door 
 opener to the new world. In this webinar\, we are going to have a look at 
 possibilities how we can work with stories across cultures &amp\; focus on
  the following questions: What is storytelling about and why is the narrat
 ive approach so powerful? How...\n\nhttps://sietareu.org/events/the-power-
 of-storytelling-across-cultures/
ATTACH;FMTTYPE=image/jpeg:https://sietareu.org/wp-content/uploads/iconWebi
 nar300.png
CATEGORIES:Webinar
END:VEVENT
BEGIN:VTIMEZONE
TZID:Europe/Berlin
X-LIC-LOCATION:Europe/Berlin
BEGIN:STANDARD
DTSTART:20211031T020000
TZOFFSETFROM:+0200
TZOFFSETTO:+0100
TZNAME:CET
END:STANDARD
END:VTIMEZONE
END:VCALENDAR