BEGIN:VCALENDAR
VERSION:2.0
PRODID:-//wp-events-plugin.com//7.2.3.1//EN
TZID:Europe/Berlin
X-WR-TIMEZONE:Europe/Berlin
BEGIN:VEVENT
UID:101@sietareu.org
DTSTART;TZID=Europe/Berlin:20220629T180000
DTEND;TZID=Europe/Berlin:20220629T190000
DTSTAMP:20220605T145243Z
URL:https://sietareu.org/events/the-anti-racism-learning-series-panel-disc
 ussion/
SUMMARY:The Anti-Racism Learning Series - Panel Discussion
DESCRIPTION:The Anti-Racism Learning Series are back two years after the in
 itial series on SIETAR Europa. Join us on the 29th of June for our Reflect
 ion Session in a panel discussion with two reputed experts on Diversity\, 
 Equity\, and Inclusion featured below: Farzana Nayani (she/her/hers) is a 
 recognised Diversity\, Equity and Inclusion specialist\, business\,  stra
 tegy coach\,...\n\nhttps://sietareu.org/events/the-anti-racism-learning-se
 ries-panel-discussion/
ATTACH;FMTTYPE=image/jpeg:https://sietareu.org/wp-content/uploads/Farzana_
 Nayani_0006_Web-2.jpg
CATEGORIES:Webinar
END:VEVENT
BEGIN:VTIMEZONE
TZID:Europe/Berlin
X-LIC-LOCATION:Europe/Berlin
BEGIN:DAYLIGHT
DTSTART:20220327T030000
TZOFFSETFROM:+0100
TZOFFSETTO:+0200
TZNAME:CEST
END:DAYLIGHT
END:VTIMEZONE
END:VCALENDAR