BEGIN:VCALENDAR
VERSION:2.0
PRODID:-//wp-events-plugin.com//7.2.3.1//EN
TZID:Europe/Berlin
X-WR-TIMEZONE:Europe/Berlin
BEGIN:VEVENT
UID:85@sietareu.org
DTSTART;TZID=Europe/Berlin:20220927T180000
DTEND;TZID=Europe/Berlin:20220927T190000
DTSTAMP:20220922T103145Z
URL:https://sietareu.org/events/ten-principles-for-the-management-of-diffe
 rent-philosophies-of-life-in-smes/
SUMMARY:Ten principles for the management of  different philosophies of lif
 e in SME's
DESCRIPTION:An increasing number of organisations are striving for more div
 ersity in the workplace and for a more inclusive work environment. Because
  efficient management of a diverse group of employees is critical to any s
 uccessful organisation. Also for SMEs. How can you create an inclusive wor
 k environment in your SME\, with space for philosophical diversity? This..
 .\n\nhttps://sietareu.org/events/ten-principles-for-the-management-of-diff
 erent-philosophies-of-life-in-smes/
ATTACH;FMTTYPE=image/jpeg:https://sietareu.org/wp-content/uploads/iconWebi
 nar300.png
CATEGORIES:Webinar
END:VEVENT
BEGIN:VTIMEZONE
TZID:Europe/Berlin
X-LIC-LOCATION:Europe/Berlin
BEGIN:DAYLIGHT
DTSTART:20220327T030000
TZOFFSETFROM:+0100
TZOFFSETTO:+0200
TZNAME:CEST
END:DAYLIGHT
END:VTIMEZONE
END:VCALENDAR