BEGIN:VCALENDAR
VERSION:2.0
PRODID:-//wp-events-plugin.com//7.2.3.1//EN
TZID:Europe/Berlin
X-WR-TIMEZONE:Europe/Berlin
BEGIN:VEVENT
UID:212@sietareu.org
DTSTART;TZID=Europe/Berlin:20241002T180000
DTEND;TZID=Europe/Berlin:20241002T200000
DTSTAMP:20241001T172459Z
URL:https://sietareu.org/events/teaching-global-leadership-navigating-diff
 erent-intercultural-paradigms/
SUMMARY:Teaching Global Leadership – Navigating different intercultural p
 aradigms
DESCRIPTION:SIETAR Polska   SIETAR France   SIETAR Austria   SIETAR Germ
 any   and     SIETAR Europa  - collaborative meeting  Presenting the 
 textbook Global Leadership Practices (Edward Elgar\, 2024) the authors tal
 k about how to teach the complexities inherent in Global Leadership. Globa
 l Leadership is brought to life through the presentation of cases interpre
 ted from...\n\nhttps://sietareu.org/events/teaching-global-leadership-navi
 gating-different-intercultural-paradigms/
CATEGORIES:Webinar
LOCATION:https://us02web.zoom.us/j/88618332668?pwd=hWvWFsaio0c8BjF8Io0kHrWC
 KFXTjr.1
END:VEVENT
BEGIN:VTIMEZONE
TZID:Europe/Berlin
X-LIC-LOCATION:Europe/Berlin
BEGIN:DAYLIGHT
DTSTART:20240331T030000
TZOFFSETFROM:+0100
TZOFFSETTO:+0200
TZNAME:CEST
END:DAYLIGHT
END:VTIMEZONE
END:VCALENDAR