BEGIN:VCALENDAR
VERSION:2.0
PRODID:-//wp-events-plugin.com//7.2.3.1//EN
TZID:Europe/Berlin
X-WR-TIMEZONE:Europe/Berlin
BEGIN:VEVENT
UID:138@sietareu.org
DTSTART;TZID=Europe/Berlin:20230418T170000
DTEND;TZID=Europe/Berlin:20230418T190000
DTSTAMP:20230326T062018Z
URL:https://sietareu.org/events/sig-africa-working-women-in-nairobi/
SUMMARY:SIG Africa: Working Women in Nairobi
DESCRIPTION:WORKING WOMEN IN NAIROBI Formal Employment or Entrepreneurship 
 for Greater Economic Gain In the last 20 years\, women in Africa have made
  significant headway in gender parity\, gaining political positions and ma
 king up an equitable share of the African labour markets - close to 50%. A
 s much as we see progress in the numbers\, we...\n\nhttps://sietareu.org/e
 vents/sig-africa-working-women-in-nairobi/
CATEGORIES:Special Event
END:VEVENT
BEGIN:VTIMEZONE
TZID:Europe/Berlin
X-LIC-LOCATION:Europe/Berlin
BEGIN:DAYLIGHT
DTSTART:20230326T030000
TZOFFSETFROM:+0100
TZOFFSETTO:+0200
TZNAME:CEST
END:DAYLIGHT
END:VTIMEZONE
END:VCALENDAR