BEGIN:VCALENDAR
VERSION:2.0
PRODID:-//wp-events-plugin.com//7.2.3.1//EN
TZID:Europe/Berlin
X-WR-TIMEZONE:Europe/Berlin
BEGIN:VEVENT
UID:178@sietareu.org
DTSTART;TZID=Europe/Berlin:20240330T170000
DTEND;TZID=Europe/Berlin:20240330T181500
DTSTAMP:20240326T161931Z
URL:https://sietareu.org/events/sietar-multilingualism/
SUMMARY:SIETAR Multilingualism
DESCRIPTION:SIETAR MULTILINGUALISM SIETAR Europa proudly presents SIETAR Mu
 ltilingualism\, an innovative platform dedicated to fostering linguistic d
 iversity\, intercultural understanding\, and inclusive education. Through 
 collaboration with National SIETARs\, we engage in webinars\, film screeni
 ngs\, and debates in various languages. Join us as we delve into the trans
 formative potential of multilingualism and intercultural education\, creat
 ing more inclusive\, equitable\,...\n\nhttps://sietareu.org/events/sietar-
 multilingualism/
CATEGORIES:Special Event
END:VEVENT
BEGIN:VTIMEZONE
TZID:Europe/Berlin
X-LIC-LOCATION:Europe/Berlin
BEGIN:STANDARD
DTSTART:20231029T020000
TZOFFSETFROM:+0200
TZOFFSETTO:+0100
TZNAME:CET
END:STANDARD
END:VTIMEZONE
END:VCALENDAR