BEGIN:VCALENDAR
VERSION:2.0
PRODID:-//wp-events-plugin.com//7.2.3.1//EN
TZID:Europe/Berlin
X-WR-TIMEZONE:Europe/Berlin
BEGIN:VEVENT
UID:191@sietareu.org
DTSTART;TZID=Europe/Berlin:20240508T170000
DTEND;TZID=Europe/Berlin:20240508T180000
DTSTAMP:20240506T083305Z
URL:https://sietareu.org/events/sietar-multilingualism-descubre-el-poder-i
 nspirador-del-choque-cultural/
SUMMARY:SIETAR Multilingualism: Descubre el poder inspirador del choque cul
 tural
DESCRIPTION:Descubre el poder inspirador del choque cultural con Fran Guija
 ro en TEDxMalagueta. La UNESCO define la interculturalidad como una perspe
 ctiva que valora la diversidad de identidades culturales y las variadas fo
 rmas en las que se construye el conocimiento en todo el mundo. SIETAR Mult
 ilingualism es una plataforma innovadora que promueve la diversidad lingü
 ística\, la comprensión...\n\nhttps://sietareu.org/events/sietar-multili
 ngualism-descubre-el-poder-inspirador-del-choque-cultural/
CATEGORIES:Multilingualism
END:VEVENT
BEGIN:VTIMEZONE
TZID:Europe/Berlin
X-LIC-LOCATION:Europe/Berlin
BEGIN:DAYLIGHT
DTSTART:20240331T030000
TZOFFSETFROM:+0100
TZOFFSETTO:+0200
TZNAME:CEST
END:DAYLIGHT
END:VTIMEZONE
END:VCALENDAR