BEGIN:VCALENDAR
VERSION:2.0
PRODID:-//wp-events-plugin.com//7.2.3.1//EN
TZID:Europe/Berlin
X-WR-TIMEZONE:Europe/Berlin
BEGIN:VEVENT
UID:91@sietareu.org
DTSTART;TZID=Europe/Berlin:20220520T143000
DTEND;TZID=Europe/Berlin:20220520T163000
DTSTAMP:20220625T061136Z
URL:https://sietareu.org/events/sietar-europa-general-assembly-meeting/
SUMMARY:SIETAR Europa –  General Assembly Meeting
DESCRIPTION:Online and on-site in Malta at the SEU Congress Register to att
 end online here In the turbulent world we live in\, SIETAR Europa is worki
 ng to support intercultural awareness and mutual understanding\, as SIETAR
  Europa members have been supporting\, promoting and representing. You\, a
 s a SIETAR Europa member\, are constantly influencing and changing the org
 anisation...\n\nhttps://sietareu.org/events/sietar-europa-general-assembly
 -meeting/
CATEGORIES:Special Event
END:VEVENT
BEGIN:VTIMEZONE
TZID:Europe/Berlin
X-LIC-LOCATION:Europe/Berlin
BEGIN:DAYLIGHT
DTSTART:20220327T030000
TZOFFSETFROM:+0100
TZOFFSETTO:+0200
TZNAME:CEST
END:DAYLIGHT
END:VTIMEZONE
END:VCALENDAR