BEGIN:VCALENDAR
VERSION:2.0
PRODID:-//wp-events-plugin.com//7.2.3.1//EN
TZID:Europe/Berlin
X-WR-TIMEZONE:Europe/Berlin
BEGIN:VEVENT
UID:142@sietareu.org
DTSTART;TZID=Europe/Berlin:20230615T180000
DTEND;TZID=Europe/Berlin:20230615T200000
DTSTAMP:20230514T084652Z
URL:https://sietareu.org/events/sietar-europa-gam2023/
SUMMARY:SIETAR EUROPA: General Assembly Meeting
DESCRIPTION:Once a year\, you as members have an opportunity to set the str
 ategic priorities in decision-making by participating in the SIETAR Genera
 l Assembly (GA). The GA is\, as you know\, the highest governing authority
  of SIETAR Europa. At the GA\, we celebrate our previous year achievements
  and decide what the future of SIETAR Europa looks...\n\nhttps://sietareu.
 org/events/sietar-europa-gam2023/
CATEGORIES:Special Event
END:VEVENT
BEGIN:VTIMEZONE
TZID:Europe/Berlin
X-LIC-LOCATION:Europe/Berlin
BEGIN:DAYLIGHT
DTSTART:20230326T030000
TZOFFSETFROM:+0100
TZOFFSETTO:+0200
TZNAME:CEST
END:DAYLIGHT
END:VTIMEZONE
END:VCALENDAR