BEGIN:VCALENDAR
VERSION:2.0
PRODID:-//wp-events-plugin.com//7.2.3.1//EN
TZID:Europe/Berlin
X-WR-TIMEZONE:Europe/Berlin
BEGIN:VEVENT
UID:228@sietareu.org
DTSTART;TZID=Europe/Amsterdam:20250623T180000
DTEND;TZID=Europe/Amsterdam:20250623T200000
DTSTAMP:20250615T084809Z
URL:https://sietareu.org/events/seu-general-assembly-meeting-2025/
SUMMARY:SIETAR Europa: General Assembly Meeting
DESCRIPTION:Register here: https://us02web.zoom.us/meeting/register/qFjFPsW
 YRY6eIpSxxSa3ZA Once a year\, you as members have an opportunity to set th
 e strategic priorities in decision-making by participating in the SIETAR G
 eneral Assembly (GA). The GA is\, as you know\, the highest governing auth
 ority of SIETAR Europa. At the GA\, we look back over our previous year's 
 activities and decide what the...\n\nhttps://sietareu.org/events/seu-gener
 al-assembly-meeting-2025/
CATEGORIES:Special Event
END:VEVENT
BEGIN:VTIMEZONE
TZID:Europe/Amsterdam
X-LIC-LOCATION:Europe/Amsterdam
BEGIN:DAYLIGHT
DTSTART:20250330T030000
TZOFFSETFROM:+0100
TZOFFSETTO:+0200
TZNAME:CEST
END:DAYLIGHT
END:VTIMEZONE
END:VCALENDAR