BEGIN:VCALENDAR
VERSION:2.0
PRODID:-//wp-events-plugin.com//7.2.3.1//EN
TZID:Europe/Berlin
X-WR-TIMEZONE:Europe/Berlin
BEGIN:VEVENT
UID:158@sietareu.org
DTSTART;TZID=Europe/Berlin;VALUE=DATE:20240606
DTEND;TZID=Europe/Berlin;VALUE=DATE:20240609
DTSTAMP:20240713T180750Z
URL:https://sietareu.org/events/seu-congress-2024/
SUMMARY:SEU Congress 2024: Lille\, France
DESCRIPTION:Systems: The Ecosystem of Interculturalism From neuroscience to
  anti-racist justice\, from migration studies to critical history: new voi
 ces\, paradigms and perspectives begin to have significant influence on ho
 w we make sense of interculturalism. Our 2024 Congress wants to explore th
 ese systemic dependencies and place interculturalism into a paradigm that 
 looks ahead by acknowledging its past...\n\nhttps://sietareu.org/events/se
 u-congress-2024/
CATEGORIES:Congress 2024
END:VEVENT
BEGIN:VTIMEZONE
TZID:Europe/Berlin
X-LIC-LOCATION:Europe/Berlin
BEGIN:DAYLIGHT
DTSTART:20240331T030000
TZOFFSETFROM:+0100
TZOFFSETTO:+0200
TZNAME:CEST
END:DAYLIGHT
END:VTIMEZONE
END:VCALENDAR