BEGIN:VCALENDAR
VERSION:2.0
PRODID:-//wp-events-plugin.com//7.2.3.1//EN
TZID:Europe/Berlin
X-WR-TIMEZONE:Europe/Berlin
BEGIN:VEVENT
UID:103@sietareu.org
DTSTART;TZID=Europe/Berlin:20220905T150000
DTEND;TZID=Europe/Berlin:20220905T160000
DTSTAMP:20220820T142840Z
URL:https://sietareu.org/events/september-meetup/
SUMMARY:Explore Islamophobia - Part 2
DESCRIPTION:Having explored Islamophobia\, its roots\, and expressions in t
 he DMeetUp back in July\, there was an overwhelming consensus that a follo
 w-up should take place in which we address how to challenge it. (The prese
 ntation from the first session is here….) So\, in our session on the 5th
  of September\, at 3 p.m. CET\, with Neil...\n\nhttps://sietareu.org/event
 s/september-meetup/
ATTACH;FMTTYPE=image/jpeg:https://sietareu.org/wp-content/uploads/iconDMee
 tUp300a.png
CATEGORIES:DMeetUp
END:VEVENT
BEGIN:VTIMEZONE
TZID:Europe/Berlin
X-LIC-LOCATION:Europe/Berlin
BEGIN:DAYLIGHT
DTSTART:20220327T030000
TZOFFSETFROM:+0100
TZOFFSETTO:+0200
TZNAME:CEST
END:DAYLIGHT
END:VTIMEZONE
END:VCALENDAR