BEGIN:VCALENDAR
VERSION:2.0
PRODID:-//wp-events-plugin.com//7.2.3.1//EN
TZID:Europe/Berlin
X-WR-TIMEZONE:Europe/Berlin
BEGIN:VEVENT
UID:148@sietareu.org
DTSTART;TZID=Europe/Berlin:20230904T150000
DTEND;TZID=Europe/Berlin:20230904T161500
DTSTAMP:20231003T094258Z
URL:https://sietareu.org/events/sep23-dmeetup/
SUMMARY:DMeetUp w/ Grant Douglas and Bastian Küntzel
DESCRIPTION:Empowering Changemakers for a Better Society Mass Customizing L
 earner Journeys in Higher Education We are happy to usher in the new schoo
 l year with our speakers Grant Douglas and Bastian Küntzel\, with a fa
 scinating presentation: Empowering Changemakers for a Better Society: Mass
  Customizing Learner Journeys in Higher Education. This will be given on
  4 September at 15:00 CET. Starting with...\n\nhttps://sietareu.org/event
 s/sep23-dmeetup/
ATTACH;FMTTYPE=image/jpeg:https://sietareu.org/wp-content/uploads/iconDMee
 tUp300a.png
CATEGORIES:DMeetUp
END:VEVENT
BEGIN:VTIMEZONE
TZID:Europe/Berlin
X-LIC-LOCATION:Europe/Berlin
BEGIN:DAYLIGHT
DTSTART:20230326T030000
TZOFFSETFROM:+0100
TZOFFSETTO:+0200
TZNAME:CEST
END:DAYLIGHT
END:VTIMEZONE
END:VCALENDAR