BEGIN:VCALENDAR
VERSION:2.0
PRODID:-//wp-events-plugin.com//7.2.3.1//EN
TZID:Europe/Berlin
X-WR-TIMEZONE:Europe/Berlin
BEGIN:VEVENT
UID:143@sietareu.org
DTSTART;TZID=Europe/Berlin;VALUE=DATE:20230608
DTEND;TZID=Europe/Berlin;VALUE=DATE:20230620
DTSTAMP:20230608T055259Z
URL:https://sietareu.org/events/pre-festival/
SUMMARY:SEVIFEST FilmFest: Pre-Festival Programme
DESCRIPTION:For information and registration\, please contact Papa Balla Nd
 ong at vp@sietareu.org. &nbsp\; &nbsp\;\n\nhttps://sietareu.org/events/pre
 -festival/
CATEGORIES:Virtual Institute
END:VEVENT
BEGIN:VTIMEZONE
TZID:Europe/Berlin
X-LIC-LOCATION:Europe/Berlin
BEGIN:DAYLIGHT
DTSTART:20230326T030000
TZOFFSETFROM:+0100
TZOFFSETTO:+0200
TZNAME:CEST
END:DAYLIGHT
END:VTIMEZONE
END:VCALENDAR