BEGIN:VCALENDAR
VERSION:2.0
PRODID:-//wp-events-plugin.com//7.2.3.1//EN
TZID:Europe/Berlin
X-WR-TIMEZONE:Europe/Berlin
BEGIN:VEVENT
UID:205@sietareu.org
DTSTART;TZID=Europe/Berlin:20240604T100000
DTEND;TZID=Europe/Berlin:20240605T180000
DTSTAMP:20240713T180725Z
URL:https://sietareu.org/events/pre-congress-visual-storytelling-arts-for-
 fostering-diversity-inclusion/
SUMMARY:[Pre-Congress] Visual Storytelling & Arts for Fostering Diversity &
  Inclusion
DESCRIPTION:Visual Storytelling and working with arts to foster diversity\,
  equity and inclusion The workshop is built on the principle of the learni
 ng journey in which you are invited to get to know the narrative approach 
 and opportunities to share stories inspired by visuals\, pieces of art and
  excerpts from graphic novels. Based on these inspirations\,...\n\nhttps:/
 /sietareu.org/events/pre-congress-visual-storytelling-arts-for-fostering-d
 iversity-inclusion/
CATEGORIES:Congress 2024
END:VEVENT
BEGIN:VTIMEZONE
TZID:Europe/Berlin
X-LIC-LOCATION:Europe/Berlin
BEGIN:DAYLIGHT
DTSTART:20240331T030000
TZOFFSETFROM:+0100
TZOFFSETTO:+0200
TZNAME:CEST
END:DAYLIGHT
END:VTIMEZONE
END:VCALENDAR