BEGIN:VCALENDAR
VERSION:2.0
PRODID:-//wp-events-plugin.com//7.2.3.1//EN
TZID:Europe/Berlin
X-WR-TIMEZONE:Europe/Berlin
BEGIN:VEVENT
UID:188@sietareu.org
DTSTART;TZID=Europe/Berlin:20240521T160000
DTEND;TZID=Europe/Berlin:20240521T173000
DTSTAMP:20240713T181255Z
URL:https://sietareu.org/events/pre-congress-online-keynote/
SUMMARY:[Pre-Congress Online] System thinking and complexity: learning to d
 ance with zombies\, Nadine Lamouri-Bajja
DESCRIPTION:Keynote Speaker: Nadine Lamouri-Bajja Nadine Lyamouri-Bajja\, F
 rance\, intercultural psychologist\, systemic psychotherapist and internat
 ional trainer/consultant. After some years of practice as a psychologist i
 n the MEDA and Middle-East with Médecins du Monde\, The Red Cross and UNI
 CEF\, Nadine Lyamouri-Bajja worked as an educational advisor in the Counci
 l of Europe youth Directorate from 2006-2011. Since 2013\, she...\n\nhttps
 ://sietareu.org/events/pre-congress-online-keynote/
CATEGORIES:Congress 2024
END:VEVENT
BEGIN:VTIMEZONE
TZID:Europe/Berlin
X-LIC-LOCATION:Europe/Berlin
BEGIN:DAYLIGHT
DTSTART:20240331T030000
TZOFFSETFROM:+0100
TZOFFSETTO:+0200
TZNAME:CEST
END:DAYLIGHT
END:VTIMEZONE
END:VCALENDAR