BEGIN:VCALENDAR
VERSION:2.0
PRODID:-//wp-events-plugin.com//7.2.3.1//EN
TZID:Europe/Berlin
X-WR-TIMEZONE:Europe/Berlin
BEGIN:VEVENT
UID:190@sietareu.org
DTSTART;TZID=Europe/Berlin:20240603T180000
DTEND;TZID=Europe/Berlin:20240603T193000
DTSTAMP:20240523T152029Z
URL:https://sietareu.org/events/pre-congress-online-cultural-reflexivity/
SUMMARY:[Pre-Congress Online] Cultural Reflexivity: a practical approach fo
 r training\, coaching and consulting in today's complexity\, Gesa Krämer 
 and Kirsten Nazarkiewicz
DESCRIPTION:Open to All! Register here Presenters:Gesa Krämer\, Kirsten Na
 zarkiewicz Today´s complexity as well as the development of the specialis
 ed literature on Intercultural Communication requires a multi-paradigmatic
  approach regarding the support by professionals. We developed a culturall
 y reflexive approach that combines three areas of expertise to foster inte
 rcultural competencies: working with hypotheses and interpretations\, deco
 nstructing privileges...\n\nhttps://sietareu.org/events/pre-congress-onlin
 e-cultural-reflexivity/
CATEGORIES:Congress 2024
END:VEVENT
BEGIN:VTIMEZONE
TZID:Europe/Berlin
X-LIC-LOCATION:Europe/Berlin
BEGIN:DAYLIGHT
DTSTART:20240331T030000
TZOFFSETFROM:+0100
TZOFFSETTO:+0200
TZNAME:CEST
END:DAYLIGHT
END:VTIMEZONE
END:VCALENDAR