BEGIN:VCALENDAR
VERSION:2.0
PRODID:-//wp-events-plugin.com//7.2.3.1//EN
TZID:Europe/Berlin
X-WR-TIMEZONE:Europe/Berlin
BEGIN:VEVENT
UID:189@sietareu.org
DTSTART;TZID=Europe/Berlin:20240531T120000
DTEND;TZID=Europe/Berlin:20240531T133000
DTSTAMP:20240523T151757Z
URL:https://sietareu.org/events/pre-congress-online-beyond-weird/
SUMMARY:[Pre-Congress Online] Beyond WEIRD: A Deep Culture Approach to Inte
 rcultural Education\, Joseph Shaules and Ishita Ray
DESCRIPTION:Open to All! Register here Presenter:Joseph Shaules Background:
  In recent years\, intercultural (IC) educators have become increasingly a
 ware of (WEIRD–White\, Educated\, Industrialized\, Rich\, Democratic) cu
 ltural assumptions in intercultural education pedagogy. In addition\, rese
 archers have made enormous strides in understanding culture and cognitive 
 processes\, eg: cultural differences in information processing\, emotion\,
  motivation\, and identity\; cognitive biases\;...\n\nhttps://sietareu.org
 /events/pre-congress-online-beyond-weird/
CATEGORIES:Congress 2024
END:VEVENT
BEGIN:VTIMEZONE
TZID:Europe/Berlin
X-LIC-LOCATION:Europe/Berlin
BEGIN:DAYLIGHT
DTSTART:20240331T030000
TZOFFSETFROM:+0100
TZOFFSETTO:+0200
TZNAME:CEST
END:DAYLIGHT
END:VTIMEZONE
END:VCALENDAR