BEGIN:VCALENDAR
VERSION:2.0
PRODID:-//wp-events-plugin.com//7.2.3.1//EN
TZID:Europe/Berlin
X-WR-TIMEZONE:Europe/Berlin
BEGIN:VEVENT
UID:208@sietareu.org
DTSTART;TZID=Europe/Berlin:20240605T140000
DTEND;TZID=Europe/Berlin:20240605T170000
DTSTAMP:20240713T180618Z
URL:https://sietareu.org/events/pre-congress-lego-serious-play-vs-playmobi
 l-pro/
SUMMARY:[Pre-Congress] LEGO® SERIOUS PLAY® vs. PLAYMOBIL® pro
DESCRIPTION:Tools for Promoting Intercultural Competence "LEGO ® SERIOUS P
 LAY ® vs. PLAYMOBIL pro" In recent years\, gamification methods have won 
 keen recognition of current pedagogies seeking to stimulate the modern gen
 eration-Y students’ interest through entertainment. While computer-based
  solutions remain more popular\, the engagement potential of tangible\, to
 y-like gamification tools may not go unnoticed\, seeing that...\n\nhttps:/
 /sietareu.org/events/pre-congress-lego-serious-play-vs-playmobil-pro/
CATEGORIES:Congress 2024
END:VEVENT
BEGIN:VTIMEZONE
TZID:Europe/Berlin
X-LIC-LOCATION:Europe/Berlin
BEGIN:DAYLIGHT
DTSTART:20240331T030000
TZOFFSETFROM:+0100
TZOFFSETTO:+0200
TZNAME:CEST
END:DAYLIGHT
END:VTIMEZONE
END:VCALENDAR