BEGIN:VCALENDAR
VERSION:2.0
PRODID:-//wp-events-plugin.com//7.2.3.1//EN
TZID:Europe/Berlin
X-WR-TIMEZONE:Europe/Berlin
BEGIN:VEVENT
UID:204@sietareu.org
DTSTART;TZID=Europe/Berlin:20240604T100000
DTEND;TZID=Europe/Berlin:20240604T180000
DTSTAMP:20240713T180712Z
URL:https://sietareu.org/events/pre-congress-diversity-icebreaker-and-incl
 usive-competencies-inventory/
SUMMARY:[Pre-Congress] Diversity Icebreaker and Inclusive Competencies Inve
 ntory 
DESCRIPTION:Diversity Icebreaker and Inclusive Competencies Inventory appli
 ed in coaching\, personal development and to solve grand wicked problems. 
 This workshop is designed for facilitators\, consultants\, HR professional
 s\, and coaches who are passionate about diversity\, equity\, inclusion\, 
 and belonging (DEIB). The Diversity Icebreaker and Inclusive Competencies 
 Inventory are innovatively utilized in coaching and personal development. 
 Diversity Icebreaker®...\n\nhttps://sietareu.org/events/pre-congress-dive
 rsity-icebreaker-and-inclusive-competencies-inventory/
CATEGORIES:Congress 2024
END:VEVENT
BEGIN:VTIMEZONE
TZID:Europe/Berlin
X-LIC-LOCATION:Europe/Berlin
BEGIN:DAYLIGHT
DTSTART:20240331T030000
TZOFFSETFROM:+0100
TZOFFSETTO:+0200
TZNAME:CEST
END:DAYLIGHT
END:VTIMEZONE
END:VCALENDAR