BEGIN:VCALENDAR
VERSION:2.0
PRODID:-//wp-events-plugin.com//7.2.3.1//EN
TZID:Europe/Berlin
X-WR-TIMEZONE:Europe/Berlin
BEGIN:VEVENT
UID:104@sietareu.org
DTSTART;TZID=Europe/Berlin:20221003T150000
DTEND;TZID=Europe/Berlin:20221003T160000
DTSTAMP:20221201T190725Z
URL:https://sietareu.org/events/october-meetup/
SUMMARY:Convergence between CBL and D&I processes
DESCRIPTION:In the DMeetUp on the 3rd of October\, 2022 with Vincent Merk\,
  we were fortunate to be able to dive into his research and learn about so
 me of Vincent's life work. Vincent shared with us “Convergence between C
 BL and D&amp\;I processes”. We reviewed what diversity (cognitive and id
 entity types) and intersectionality mean and how to...\n\nhttps://sietareu
 .org/events/october-meetup/
ATTACH;FMTTYPE=image/jpeg:https://sietareu.org/wp-content/uploads/iconDMee
 tUp300a.png
CATEGORIES:DMeetUp
END:VEVENT
BEGIN:VTIMEZONE
TZID:Europe/Berlin
X-LIC-LOCATION:Europe/Berlin
BEGIN:DAYLIGHT
DTSTART:20220327T030000
TZOFFSETFROM:+0100
TZOFFSETTO:+0200
TZNAME:CEST
END:DAYLIGHT
END:VTIMEZONE
END:VCALENDAR