BEGIN:VCALENDAR
VERSION:2.0
PRODID:-//wp-events-plugin.com//7.2.3.1//EN
TZID:Europe/Berlin
X-WR-TIMEZONE:Europe/Berlin
BEGIN:VEVENT
UID:149@sietareu.org
DTSTART;TZID=Europe/Berlin:20231002T150000
DTEND;TZID=Europe/Berlin:20231002T161500
DTSTAMP:20231003T094249Z
URL:https://sietareu.org/events/oct23-dmeetup/
SUMMARY:DMeetUp w/ Patti McCarthy: More Integration\, Less Differentiation
DESCRIPTION:As the world can sometimes feel like it is becoming more and mo
 re polarised\,  reminding people of the value of integration and teaching
  them how to ‘do it’ is an important skill for interculturalists to sh
 are. Our next DMeetUp on the 2nd of October 2023\, 3 p.m. CET will be with
  Patti McCarthy\, and together...\n\nhttps://sietareu.org/events/oct23-dme
 etup/
ATTACH;FMTTYPE=image/jpeg:https://sietareu.org/wp-content/uploads/iconDMee
 tUp300a.png
CATEGORIES:DMeetUp
END:VEVENT
BEGIN:VTIMEZONE
TZID:Europe/Berlin
X-LIC-LOCATION:Europe/Berlin
BEGIN:DAYLIGHT
DTSTART:20230326T030000
TZOFFSETFROM:+0100
TZOFFSETTO:+0200
TZNAME:CEST
END:DAYLIGHT
END:VTIMEZONE
END:VCALENDAR