BEGIN:VCALENDAR
VERSION:2.0
PRODID:-//wp-events-plugin.com//7.2.3.1//EN
TZID:Europe/Berlin
X-WR-TIMEZONE:Europe/Berlin
BEGIN:VEVENT
UID:107@sietareu.org
DTSTART;TZID=Europe/Berlin:20221107T150000
DTEND;TZID=Europe/Berlin:20221107T160000
DTSTAMP:20221201T190858Z
URL:https://sietareu.org/events/november-meetup/
SUMMARY:Otherness and Giftedness
DESCRIPTION:Otherness and Giftedness – fostering « a...broad » perspect
 ive through Symbolic Creativity. How can narrative practices\, philosophic
 al traditions\, trauma-informed positive psychoeducation\, metaphoric tool
 s\, and cultural artifacts blend into a methodology proving useful to tale
 nted nomads who embody both cognitive and cultural diversity? This discuss
 ion with Isabelle Gillet will share some insights for intercultural profes
 sionals supporting...\n\nhttps://sietareu.org/events/november-meetup/
CATEGORIES:DMeetUp
END:VEVENT
BEGIN:VTIMEZONE
TZID:Europe/Berlin
X-LIC-LOCATION:Europe/Berlin
BEGIN:STANDARD
DTSTART:20221030T020000
TZOFFSETFROM:+0200
TZOFFSETTO:+0100
TZNAME:CET
END:STANDARD
END:VTIMEZONE
END:VCALENDAR