BEGIN:VCALENDAR
VERSION:2.0
PRODID:-//wp-events-plugin.com//7.2.3.1//EN
TZID:Europe/Berlin
X-WR-TIMEZONE:Europe/Berlin
BEGIN:VEVENT
UID:65@sietareu.org
DTSTART;TZID=Europe/Berlin:20220228T110000
DTEND;TZID=Europe/Berlin:20220228T114500
DTSTAMP:20220313T120419Z
URL:https://sietareu.org/events/neutrality-or-statement-how-to-address-con
 flicts-in-intercultural-programs/
SUMMARY:Neutrality or statement? How to address conflicts in intercultural 
 programs?
DESCRIPTION:Burning question: Neutrality or statement? How to address confl
 icts in intercultural programs? Moderator: Gradiola Kapaj &nbsp\; You are 
 asking yourself what CCCBreak stands for? Well\, it is a Cross-Cultural Co
 ffee Break: every participant grabs a cup of coffee (cappuccino\, latte ma
 cchiato\, espresso\, you name it) and dives into a vivid exchange on an in
 tercultural topic....\n\nhttps://sietareu.org/events/neutrality-or-stateme
 nt-how-to-address-conflicts-in-intercultural-programs/
ATTACH;FMTTYPE=image/jpeg:https://sietareu.org/wp-content/uploads/Sietar_I
 cons_Tasse.png
CATEGORIES:CCC Break
END:VEVENT
BEGIN:VTIMEZONE
TZID:Europe/Berlin
X-LIC-LOCATION:Europe/Berlin
BEGIN:STANDARD
DTSTART:20211031T020000
TZOFFSETFROM:+0200
TZOFFSETTO:+0100
TZNAME:CET
END:STANDARD
END:VTIMEZONE
END:VCALENDAR