BEGIN:VCALENDAR
VERSION:2.0
PRODID:-//wp-events-plugin.com//7.2.3.1//EN
TZID:Europe/Berlin
X-WR-TIMEZONE:Europe/Berlin
BEGIN:VEVENT
UID:225@sietareu.org
DTSTART;TZID=Europe/Berlin:20250418T120000
DTEND;TZID=Europe/Berlin:20250418T130000
DTSTAMP:20250412T174142Z
URL:https://sietareu.org/events/neuroscience-of-polarization-and-how-to-br
 idge-social-divide/
SUMMARY:Neuroscience of Polarization and How to Bridge Social Divide
DESCRIPTION:We are delighted to invite you to an enlightening webinar title
 d " The Neuroscience of Polarization and How to Bridge Social Divide" by
  Dr. Mai Nguyen\, a prominent expert and a leading voice at the crossroads
  of neuroscience\, management\, and interculturalism In this webinar\, we 
 will explore the intersection of brain science surrounding political and c
 ultural divides....\n\nhttps://sietareu.org/events/neuroscience-of-polariz
 ation-and-how-to-bridge-social-divide/
ATTACH;FMTTYPE=image/jpeg:https://sietareu.org/wp-content/uploads/iconWebi
 nar300.png
CATEGORIES:Webinar
END:VEVENT
BEGIN:VTIMEZONE
TZID:Europe/Berlin
X-LIC-LOCATION:Europe/Berlin
BEGIN:DAYLIGHT
DTSTART:20250330T030000
TZOFFSETFROM:+0100
TZOFFSETTO:+0200
TZNAME:CEST
END:DAYLIGHT
END:VTIMEZONE
END:VCALENDAR