BEGIN:VCALENDAR
VERSION:2.0
PRODID:-//wp-events-plugin.com//7.2.3.1//EN
TZID:Europe/Berlin
X-WR-TIMEZONE:Europe/Berlin
BEGIN:VEVENT
UID:137@sietareu.org
DTSTART;TZID=Europe/Berlin:20230327T170000
DTEND;TZID=Europe/Berlin:20230327T190000
DTSTAMP:20230325T143917Z
URL:https://sietareu.org/events/migration-challenges-of-today-and-tomorrow
 /
SUMMARY:Migration: Challenges of Today and Tomorrow
DESCRIPTION:Dear SIETAR Europa Members and Friends\, We would like to invit
 e you to join us for an engaging event titled "Migration. Challenges of To
 day and Tomorrow". The purpose of this event is to reflect and discuss the
  global challenges posed by the Russian full-scale invasion of Ukraine\, w
 hich has now entered its second year of...\n\nhttps://sietareu.org/events/
 migration-challenges-of-today-and-tomorrow/
CATEGORIES:Special Event
END:VEVENT
BEGIN:VTIMEZONE
TZID:Europe/Berlin
X-LIC-LOCATION:Europe/Berlin
BEGIN:DAYLIGHT
DTSTART:20230326T030000
TZOFFSETFROM:+0100
TZOFFSETTO:+0200
TZNAME:CEST
END:DAYLIGHT
END:VTIMEZONE
END:VCALENDAR