BEGIN:VCALENDAR
VERSION:2.0
PRODID:-//wp-events-plugin.com//7.2.3.1//EN
TZID:Europe/Berlin
X-WR-TIMEZONE:Europe/Berlin
BEGIN:VEVENT
UID:140@sietareu.org
DTSTART;TZID=Europe/Berlin:20230501T120000
DTEND;TZID=Europe/Berlin:20230501T130000
DTSTAMP:20231003T094408Z
URL:https://sietareu.org/events/may23-dmeetup/
SUMMARY:DMeetup w/ Chérif Ezzeldin
DESCRIPTION:Our 31st Direct Members MeetUp of 1 May\, 2023 on "Voice and Va
 lues" with Chérif Ezzeldin was well received and we had a vibrant discuss
 ion on how speech patterns are used over the spans of time. Cherif shared 
 of a video of princess Elizabeth’s 21st birthday Dedication Speech pitte
 d against Prince Henry’s closing ceremony speech...\n\nhttps://sietareu.
 org/events/may23-dmeetup/
ATTACH;FMTTYPE=image/jpeg:https://sietareu.org/wp-content/uploads/iconDMee
 tUp300a.png
CATEGORIES:DMeetUp
END:VEVENT
BEGIN:VTIMEZONE
TZID:Europe/Berlin
X-LIC-LOCATION:Europe/Berlin
BEGIN:DAYLIGHT
DTSTART:20230326T030000
TZOFFSETFROM:+0100
TZOFFSETTO:+0200
TZNAME:CEST
END:DAYLIGHT
END:VTIMEZONE
END:VCALENDAR