BEGIN:VCALENDAR
VERSION:2.0
PRODID:-//wp-events-plugin.com//7.2.3.1//EN
TZID:Europe/Berlin
X-WR-TIMEZONE:Europe/Berlin
BEGIN:VEVENT
UID:74@sietareu.org
DTSTART;TZID=Europe/Berlin:20220502T150000
DTEND;TZID=Europe/Berlin:20220502T160000
DTSTAMP:20220418T184342Z
URL:https://sietareu.org/events/may-dmeetup/
SUMMARY:Transitioning from Ego-Centric to Eco-Centric
DESCRIPTION:We interculturalists are responsible global citizens and feel o
 ur responsibility for climate change. That’s why the forthcoming session
  with Camilla Degerth\, our valued speaker and leader of the next DMeetUp 
 on the 2nd of May\, at 3 p.m. CET is so important and urgent. Exploring h
 ow cross-cultural awareness helps when transitioning from Ego-Centric to E
 co-Centric. We...\n\nhttps://sietareu.org/events/may-dmeetup/
ATTACH;FMTTYPE=image/jpeg:https://sietareu.org/wp-content/uploads/iconDMee
 tUp300a.png
CATEGORIES:DMeetUp
END:VEVENT
BEGIN:VTIMEZONE
TZID:Europe/Berlin
X-LIC-LOCATION:Europe/Berlin
BEGIN:DAYLIGHT
DTSTART:20220327T030000
TZOFFSETFROM:+0100
TZOFFSETTO:+0200
TZNAME:CEST
END:DAYLIGHT
END:VTIMEZONE
END:VCALENDAR