BEGIN:VCALENDAR
VERSION:2.0
PRODID:-//wp-events-plugin.com//7.2.3.1//EN
TZID:Europe/Berlin
X-WR-TIMEZONE:Europe/Berlin
BEGIN:VEVENT
UID:47@sietareu.org
DTSTART;TZID=Europe/Berlin:20220307T150000
DTEND;TZID=Europe/Berlin:20220307T160000
DTSTAMP:20220316T091407Z
URL:https://sietareu.org/events/march-dmeetup/
SUMMARY:How to create online-offline balance during virtual courses
DESCRIPTION:Do you already feel the spring is in the air? We are sure you c
 an sense it even if you are too much concentrated on the news and latest p
 olitical developments. Nature seems to collaborate better and makes smarte
 r decisions in comparison to us\, humans\, don’t you think? Although spr
 ing is the time when we...\n\nhttps://sietareu.org/events/march-dmeetup/
ATTACH;FMTTYPE=image/jpeg:https://sietareu.org/wp-content/uploads/iconDMee
 tUp300a.png
CATEGORIES:DMeetUp
END:VEVENT
BEGIN:VTIMEZONE
TZID:Europe/Berlin
X-LIC-LOCATION:Europe/Berlin
BEGIN:STANDARD
DTSTART:20211031T020000
TZOFFSETFROM:+0200
TZOFFSETTO:+0100
TZNAME:CET
END:STANDARD
END:VTIMEZONE
END:VCALENDAR