BEGIN:VCALENDAR
VERSION:2.0
PRODID:-//wp-events-plugin.com//7.2.3.1//EN
TZID:Europe/Berlin
X-WR-TIMEZONE:Europe/Berlin
BEGIN:VEVENT
UID:162@sietareu.org
DTSTART;TZID=Europe/Berlin:20231121T190000
DTEND;TZID=Europe/Berlin:20231121T200000
DTSTAMP:20231121T121826Z
URL:https://sietareu.org/events/learn-new-psychocultural-skills-methodolog
 y/
SUMMARY:Learn New Psychocultural Skills Methodology
DESCRIPTION:Learn New Psychocultural Skills Methodology via Animations and 
 Games SIETAR Europa invites you to the Intercultural Playground webinar " 
 Learn New Psychocultural Skills Methodology via Animations and Interactive
  Games" on Tuesday November 21st from 7pm CET. Culture Buff Games (www.cul
 turebuffgames.com ) is an EdTech developer of interactive games that leve
 rages the power of visual storytelling and...\n\nhttps://sietareu.org/even
 ts/learn-new-psychocultural-skills-methodology/
CATEGORIES:Intercultural Playground
END:VEVENT
BEGIN:VTIMEZONE
TZID:Europe/Berlin
X-LIC-LOCATION:Europe/Berlin
BEGIN:STANDARD
DTSTART:20231029T020000
TZOFFSETFROM:+0200
TZOFFSETTO:+0100
TZNAME:CET
END:STANDARD
END:VTIMEZONE
END:VCALENDAR