BEGIN:VCALENDAR
VERSION:2.0
PRODID:-//wp-events-plugin.com//7.2.3.1//EN
TZID:Europe/Berlin
X-WR-TIMEZONE:Europe/Berlin
BEGIN:VEVENT
UID:67@sietareu.org
DTSTART;TZID=Europe/Berlin:20220426T180000
DTEND;TZID=Europe/Berlin:20220426T190000
DTSTAMP:20220413T155019Z
URL:https://sietareu.org/events/leading-with-hope-heart-for-a-fragile-plan
 et/
SUMMARY:Leading with hope & heart for a fragile planet
DESCRIPTION:In this webinar\, we will explore the topic of climate and biod
 iversity leadership/ facilitation and how your practice can best serve hum
 anity and the planet at this critical time. &nbsp\; In this webinar you wi
 ll explore: What is cross-cultural climate and biodiversity facilitation a
 nd leadership? Identify when you and your students/coachees/mentees are re
 ady to explore...\n\nhttps://sietareu.org/events/leading-with-hope-heart-f
 or-a-fragile-planet/
ATTACH;FMTTYPE=image/jpeg:https://sietareu.org/wp-content/uploads/iconWebi
 nar300.png
CATEGORIES:Webinar
END:VEVENT
BEGIN:VTIMEZONE
TZID:Europe/Berlin
X-LIC-LOCATION:Europe/Berlin
BEGIN:DAYLIGHT
DTSTART:20220327T030000
TZOFFSETFROM:+0100
TZOFFSETTO:+0200
TZNAME:CEST
END:DAYLIGHT
END:VTIMEZONE
END:VCALENDAR