BEGIN:VCALENDAR
VERSION:2.0
PRODID:-//wp-events-plugin.com//7.2.3.1//EN
TZID:Europe/Berlin
X-WR-TIMEZONE:Europe/Berlin
BEGIN:VEVENT
UID:75@sietareu.org
DTSTART;TZID=Europe/Berlin:20220606T150000
DTEND;TZID=Europe/Berlin:20220606T160000
DTSTAMP:20220529T083241Z
URL:https://sietareu.org/events/june-dmeetup/
SUMMARY:How to establish connections and break walls
DESCRIPTION:The topic of our next DMeetUp of the 6th of June\, at 3 p.m. CE
 T with Olga Collin\, a Senior Advisor at Intercultural Solutions of IOR Gl
 obal Services continues the discussion of How to establish connections and
  break walls Most of us have experienced “difficult” clients and progr
 am participants who - know it all because...\n\nhttps://sietareu.org/event
 s/june-dmeetup/
ATTACH;FMTTYPE=image/jpeg:https://sietareu.org/wp-content/uploads/iconDMee
 tUp300a.png
CATEGORIES:DMeetUp
END:VEVENT
BEGIN:VTIMEZONE
TZID:Europe/Berlin
X-LIC-LOCATION:Europe/Berlin
BEGIN:DAYLIGHT
DTSTART:20220327T030000
TZOFFSETFROM:+0100
TZOFFSETTO:+0200
TZNAME:CEST
END:DAYLIGHT
END:VTIMEZONE
END:VCALENDAR