BEGIN:VCALENDAR
VERSION:2.0
PRODID:-//wp-events-plugin.com//7.2.3.1//EN
TZID:Europe/Berlin
X-WR-TIMEZONE:Europe/Berlin
BEGIN:VEVENT
UID:141@sietareu.org
DTSTART;TZID=Europe/Berlin:20230605T150000
DTEND;TZID=Europe/Berlin:20230605T160000
DTSTAMP:20240117T174436Z
URL:https://sietareu.org/events/jun23-dmeetup/
SUMMARY:DMeetup w/ Anna Kawalska
DESCRIPTION:Working with refugees and temporarily hosted people. What works
 .\n\nhttps://sietareu.org/events/jun23-dmeetup/
ATTACH;FMTTYPE=image/jpeg:https://sietareu.org/wp-content/uploads/iconDMee
 tUp300a.png
CATEGORIES:DMeetUp
END:VEVENT
BEGIN:VTIMEZONE
TZID:Europe/Berlin
X-LIC-LOCATION:Europe/Berlin
BEGIN:DAYLIGHT
DTSTART:20230326T030000
TZOFFSETFROM:+0100
TZOFFSETTO:+0200
TZNAME:CEST
END:DAYLIGHT
END:VTIMEZONE
END:VCALENDAR