BEGIN:VCALENDAR
VERSION:2.0
PRODID:-//wp-events-plugin.com//7.2.3.1//EN
TZID:Europe/Berlin
X-WR-TIMEZONE:Europe/Berlin
BEGIN:VEVENT
UID:97@sietareu.org
DTSTART;TZID=Europe/Berlin:20220704T150000
DTEND;TZID=Europe/Berlin:20220704T160000
DTSTAMP:20220619T154819Z
URL:https://sietareu.org/events/july-meetup/
SUMMARY:Explore Islamophobia
DESCRIPTION:The summer is in full swing\, and we hope you are making most o
 f the warm season by taking a break from universities and offices to relax
 . The topic of our next DMeetUp on the 4th of July\, at 3 p.m. CET\, howev
 er\, doesn’t necessarily suggest a relaxed holiday discussion. Neil Payn
 e\, an expert in...\n\nhttps://sietareu.org/events/july-meetup/
ATTACH;FMTTYPE=image/jpeg:https://sietareu.org/wp-content/uploads/iconDMee
 tUp300a.png
CATEGORIES:DMeetUp
END:VEVENT
BEGIN:VTIMEZONE
TZID:Europe/Berlin
X-LIC-LOCATION:Europe/Berlin
BEGIN:DAYLIGHT
DTSTART:20220327T030000
TZOFFSETFROM:+0100
TZOFFSETTO:+0200
TZNAME:CEST
END:DAYLIGHT
END:VTIMEZONE
END:VCALENDAR