BEGIN:VCALENDAR
VERSION:2.0
PRODID:-//wp-events-plugin.com//7.2.3.1//EN
TZID:Europe/Berlin
X-WR-TIMEZONE:Europe/Berlin
BEGIN:VEVENT
UID:146@sietareu.org
DTSTART;TZID=Europe/Berlin:20230703T120000
DTEND;TZID=Europe/Berlin:20230703T130000
DTSTAMP:20231003T094401Z
URL:https://sietareu.org/events/jul23-dmeetup/
SUMMARY:DMeetup w/ Anastasia Shevchenko
DESCRIPTION:As we approach summer and are looking forward to time with fami
 ly and friends\, we invite you to please add our next DMeetUp to your sch
 edule of exciting events.  On 3 July\, at 12:00 noon CET\, we invite you
  to join with Anastasia Shevchenko as she presents "Burning Boats and B
 uilding Bridges: The Role of Rituals in the Construction of...\n\nhttps://
 sietareu.org/events/jul23-dmeetup/
ATTACH;FMTTYPE=image/jpeg:https://sietareu.org/wp-content/uploads/iconDMee
 tUp300a.png
CATEGORIES:DMeetUp
END:VEVENT
BEGIN:VTIMEZONE
TZID:Europe/Berlin
X-LIC-LOCATION:Europe/Berlin
BEGIN:DAYLIGHT
DTSTART:20230326T030000
TZOFFSETFROM:+0100
TZOFFSETTO:+0200
TZNAME:CEST
END:DAYLIGHT
END:VTIMEZONE
END:VCALENDAR