BEGIN:VCALENDAR
VERSION:2.0
PRODID:-//wp-events-plugin.com//7.2.3.1//EN
TZID:Europe/Berlin
X-WR-TIMEZONE:Europe/Berlin
BEGIN:VEVENT
UID:44@sietareu.org
DTSTART;TZID=Europe/Berlin:20220103T150000
DTEND;TZID=Europe/Berlin:20220103T160000
DTSTAMP:20220820T143754Z
URL:https://sietareu.org/events/january-dmeetup/
SUMMARY:Fine-Tuning InterCultural Artistry
DESCRIPTION:Doctor Cindy Egolf will lead our discussion on Fine-Tuning Inte
 rCultural Artistry. Discover how your cultural identity is an asset in cre
 ating artistry: showing skill\, expertise\, finesse or excellence. We will
  also learn how to ignite imagination and unite creativity from a common p
 oint of agreement.\n\nhttps://sietareu.org/events/january-dmeetup/
ATTACH;FMTTYPE=image/jpeg:https://sietareu.org/wp-content/uploads/iconDMee
 tUp300a.png
CATEGORIES:DMeetUp
END:VEVENT
BEGIN:VTIMEZONE
TZID:Europe/Berlin
X-LIC-LOCATION:Europe/Berlin
BEGIN:STANDARD
DTSTART:20211031T020000
TZOFFSETFROM:+0200
TZOFFSETTO:+0100
TZNAME:CET
END:STANDARD
END:VTIMEZONE
END:VCALENDAR